BEGIN:VCALENDAR
PRODID:-//eluceo/ical//2.0/EN
VERSION:2.0
CALSCALE:GREGORIAN
BEGIN:VEVENT
UID:036ee0b3d14ccf9f8e1f48c958d4bc02
DTSTAMP:20260421T075847Z
SUMMARY:Yoga im Botanischen Erlebnisgarten
DESCRIPTION:Entspannt ins Wochenende starten. 
URL:https://www.altenburgerland.de/de/freizeit-tourismus/veranstaltungskale
 nder/yoga-im-botanischen-erlebnisgarten-79bf
DTSTART;TZID=Europe/Berlin:20260704T093000
DTEND;TZID=Europe/Berlin:20260704T110000
LOCATION:Botanischer Erlebnisgarten Altenburg\, Heinrich-Zille-Straße 12 0
 4600 Altenburg
ORGANIZER;CN=Diana Rosner:mailto:dianarosner07@web.de
END:VEVENT
END:VCALENDAR
