BEGIN:VCALENDAR
PRODID:-//eluceo/ical//2.0/EN
VERSION:2.0
CALSCALE:GREGORIAN
BEGIN:VEVENT
UID:2347ec8875d975359b9fdd7beb6e6031
DTSTAMP:20260421T080109Z
SUMMARY:Yoga im Botanischen Erlebnisgarten
DESCRIPTION:Entspannt ins Wochenende starten. 
URL:https://www.altenburgerland.de/de/freizeit-tourismus/veranstaltungskale
 nder/yoga-im-botanischen-erlebnisgarten-6a90
DTSTART;TZID=Europe/Berlin:20260815T093000
DTEND;TZID=Europe/Berlin:20260815T110000
LOCATION:Botanischer Erlebnisgarten Altenburg\, Heinrich-Zille-Straße 12 0
 4600 Altenburg
ORGANIZER;CN=Diana Rosner:mailto:dianarosner07@web.de
END:VEVENT
END:VCALENDAR
