BEGIN:VCALENDAR
PRODID:-//eluceo/ical//2.0/EN
VERSION:2.0
CALSCALE:GREGORIAN
BEGIN:VEVENT
UID:c28efac4789fb0b050fea67e105448e5
DTSTAMP:20260424T104932Z
SUMMARY:Workshop „Frühstücksglück aus Ton“
DESCRIPTION:Töpfere deine eigene Tasse und Teller/Schüssel in gemütliche
 r Runde im Atelier Blaue Flut in Altenburg. 
URL:https://www.altenburgerland.de/de/freizeit-tourismus/veranstaltungskale
 nder/workshop-fruehstuecksglueck-aus-ton
DTSTART;TZID=Europe/Berlin:20260426T100000
DTEND;TZID=Europe/Berlin:20260426T120000
LOCATION:Atelier "Blaue Flut"\, Frauenfelsstraße 4 04600 Altenburg
ORGANIZER;CN=Atelier Blaue Flut:mailto:jonathan@wolang.org
END:VEVENT
END:VCALENDAR
