BEGIN:VCALENDAR
PRODID:-//eluceo/ical//2.0/EN
VERSION:2.0
CALSCALE:GREGORIAN
BEGIN:VEVENT
UID:330b3db79492d1712c09582dce17330a
DTSTAMP:20260424T110021Z
SUMMARY:Workshop „Es weihnachtet sehr“
DESCRIPTION:Töpfer-Workshop im Atelier Blaue Flut in Altenburg. 
URL:https://www.altenburgerland.de/de/freizeit-tourismus/veranstaltungskale
 nder/workshop-es-weihnachtet-sehr
DTSTART;TZID=Europe/Berlin:20261121T150000
DTEND;TZID=Europe/Berlin:20261121T170000
LOCATION:Atelier "Blaue Flut"\, Frauenfelsstraße 4 04600 Altenburg
ORGANIZER;CN=Atelier Blaue Flut:mailto:jonathan@wolang.org
END:VEVENT
END:VCALENDAR
