BEGIN:VCALENDAR
PRODID:-//eluceo/ical//2.0/EN
VERSION:2.0
CALSCALE:GREGORIAN
BEGIN:VEVENT
UID:952caf27e60f008917161ab558b492cd
DTSTAMP:20251222T081316Z
SUMMARY:Tanz in den Mai mit Jo Aldingers Downbeatclub
DESCRIPTION:Man stelle sich vor\,  Außerirdische hätten sich in den 1990e
 r Jahren John Scofield und die Red Hot Chili Peppers ausgeliehen und sie i
 n ihrem Raumschiff Songs von Pink Floyd und Radiohead covern lassen. 
URL:https://www.jazzklub-altenburg.de/programm/
DTSTART;TZID=Europe/Berlin:20260430T200000
DTEND;TZID=Europe/Berlin:20260430T235959
LOCATION:Paul-Gustavus-Haus 04600 Altenburg
END:VEVENT
END:VCALENDAR
