BEGIN:VCALENDAR
PRODID:-//eluceo/ical//2.0/EN
VERSION:2.0
CALSCALE:GREGORIAN
BEGIN:VEVENT
UID:64bbb5c94c18bda17378be0b92a885fc
DTSTAMP:20260424T113953Z
SUMMARY:Sommerkabarett im Pfarrhof Gößnitz: „Kann Spuren von Nüssen en
 thalten“
DESCRIPTION:Jeder hat seine Allergien\, wir haben das Programm dagegen. 
URL:https://www.altenburgerland.de/de/freizeit-tourismus/veranstaltungskale
 nder/sommerkabarett-im-pfarrhof-goessnitz-kann-spuren-von-nuessen-enthalte
 n
DTSTART;TZID=Europe/Berlin:20260627T200000
DTEND;TZID=Europe/Berlin:20260627T235959
LOCATION:Pfarrhof Gößnitz\, Pfarrberg 1 04639 Gößnitz
END:VEVENT
END:VCALENDAR
