BEGIN:VCALENDAR
PRODID:-//eluceo/ical//2.0/EN
VERSION:2.0
CALSCALE:GREGORIAN
BEGIN:VEVENT
UID:35d149b857736000a8032fd48947af5d
DTSTAMP:20260424T114029Z
SUMMARY:Sommerkabarett im Pfarrhof Gößnitz: „Kann Spuren von Nüssen en
 thalten“
DESCRIPTION:Jeder hat seine Allergien\, wir haben das Programm dagegen. 
URL:https://www.altenburgerland.de/de/freizeit-tourismus/veranstaltungskale
 nder/sommerkabarett-im-pfarrhof-goessnitz-kann-spuren-von-nuessen-enthalte
 n-7d10
DTSTART;TZID=Europe/Berlin:20260628T160000
DTEND;TZID=Europe/Berlin:20260628T235959
LOCATION:Pfarrhof Gößnitz\, Pfarrberg 1 04639 Gößnitz
END:VEVENT
END:VCALENDAR
