BEGIN:VCALENDAR
PRODID:-//eluceo/ical//2.0/EN
VERSION:2.0
CALSCALE:GREGORIAN
BEGIN:VEVENT
UID:65c8a147310692b127ec1c7b36dbc01d
DTSTAMP:20260424T110626Z
SUMMARY:Sommerferien-Rätsel: Knappe Kuno braucht Ferien 
DESCRIPTION:Im Sommerferien-Programm auf Burg Posterstein geht es um Ausbil
 dung und Freizeit in früheren Zeiten. Geht mit Knappe Kuno auf Abenteuer-
 Rätsel-Reise! 
URL:https://www.burg-posterstein.de/kalender/
DTSTART;VALUE=DATE:20260704
LOCATION:Burg Posterstein\, Burgberg 1 04626 Posterstein
ORGANIZER;CN=Museum Burg Posterstein:mailto:info@burg-posterstein.de
END:VEVENT
END:VCALENDAR
