BEGIN:VCALENDAR
PRODID:-//eluceo/ical//2.0/EN
VERSION:2.0
CALSCALE:GREGORIAN
BEGIN:VEVENT
UID:8e058b0983c2fa9e3355b816c933f42d
DTSTAMP:20260209T223751Z
SUMMARY:Safran-Trail-Führung durch Altenburg mit Verkostung am 23. Oktober
  16-17.30 Uhr
DESCRIPTION:Das rote Gewürz der Glückseligkeit\, der Safran\, hat in Alte
 nburg eine über 500-jährige Tradition\, obwohl man ihn eher im Mittelmee
 rraum verorten würde. Schon die Kürfürsten schätzten das teure Gewürz
 .  
URL:https://www.altenburger-originale.de/produkt/safran-trail-fuehrung/
DTSTART;TZID=Europe/Berlin:20261023T160000
DTEND;TZID=Europe/Berlin:20261023T173000
LOCATION:Markt 17\, Altenburger Spielkartenladen der Altenburger Tourismus 
 GmbH 04600 Altenburg
END:VEVENT
END:VCALENDAR
