BEGIN:VCALENDAR
PRODID:-//eluceo/ical//2.0/EN
VERSION:2.0
CALSCALE:GREGORIAN
BEGIN:VEVENT
UID:77a059a51bdd68fb3633fd1155981e37
DTSTAMP:20260424T085309Z
SUMMARY:Puppentheater „Der kleine Angsthase“
DESCRIPTION:Puppentheater nach dem Bilderbuch von Elizabeth Shaw in einer S
 pielfassung von Pierre Schäfer. 
URL:https://theater-altenburg-gera.de/stuecke-konzerte/der-kleine-angsthase
 -1984/
DTSTART;TZID=Europe/Berlin:20260512T100000
DTEND;TZID=Europe/Berlin:20260512T235959
LOCATION:Heizhaus Altenburg\, Theaterplatz 19 04600 Altenburg
ORGANIZER;CN=Theater Altenburg Gera:mailto:info@theater-altenburg-gera.de
END:VEVENT
END:VCALENDAR
