BEGIN:VCALENDAR
PRODID:-//eluceo/ical//2.0/EN
VERSION:2.0
CALSCALE:GREGORIAN
BEGIN:VEVENT
UID:4d2d859ae9275293d2a2c93708dcab95
DTSTAMP:20260424T090228Z
SUMMARY:Premiere „42 Milligramm“
DESCRIPTION:Stück von Gwendolin Gäbler 
URL:https://theater-altenburg-gera.de/stuecke-konzerte/42-milligramm-2125/
DTSTART;TZID=Europe/Berlin:20260621T180000
DTEND;TZID=Europe/Berlin:20260621T235959
LOCATION:Heizhaus\, Theaterplatz 19 04600 Altenburg
ORGANIZER;CN=Theater Altenburg Gera:mailto:info@theater-altenburg-gera.de
END:VEVENT
END:VCALENDAR
