BEGIN:VCALENDAR
PRODID:-//eluceo/ical//2.0/EN
VERSION:2.0
CALSCALE:GREGORIAN
BEGIN:VEVENT
UID:88be3cc2551282367c68dd10413871c6
DTSTAMP:20260223T125348Z
SUMMARY:Musical Dinner „Dreams of Disney“ – open air
DESCRIPTION:Lassen Sie sich verzaubern und folgen Sie uns in die Traumwelte
 n von Disney. 
URL:https://www.sek-show.de/altenburg/
DTSTART;TZID=Europe/Berlin:20260627T180000
DTEND;TZID=Europe/Berlin:20260627T220000
LOCATION:Ratskeller Altenburg\, Markt 1 04600 Altenburg
ORGANIZER;CN=Ratskeller Altenburg:mailto:info@ratskeller-altenburg.de
END:VEVENT
END:VCALENDAR
