BEGIN:VCALENDAR
PRODID:-//eluceo/ical//2.0/EN
VERSION:2.0
CALSCALE:GREGORIAN
BEGIN:VEVENT
UID:f88e29368d1eb7db571465bd53a5a686
DTSTAMP:20260421T074432Z
SUMMARY:Minna von Barnhelm
DESCRIPTION:Wenn Stolz auf Liebe trifft\, entstehen turbulente Verwicklunge
 n – und große Unterhaltung. 
URL:https://theater-altenburg-gera.de/stuecke-konzerte/minna-von-barnhelm-1
 908/
DTSTART;TZID=Europe/Berlin:20260508T193000
DTEND;TZID=Europe/Berlin:20260508T235959
LOCATION:Theaterzelt Altenburg\, Teichpromenade 36 04600 Altenburg
ORGANIZER;CN=Theater Altenburg Gera:mailto:info@theater-altenburg-gera.de
END:VEVENT
END:VCALENDAR
