BEGIN:VCALENDAR
PRODID:-//eluceo/ical//2.0/EN
VERSION:2.0
CALSCALE:GREGORIAN
BEGIN:VEVENT
UID:a62103082ae93d4050efcb91cf80d2f3
DTSTAMP:20260421T074505Z
SUMMARY:Minna von Barnhelm
DESCRIPTION:Wenn Stolz auf Liebe trifft\, entstehen turbulente Verwicklunge
 n – und große Unterhaltung. 
URL:https://theater-altenburg-gera.de/stuecke-konzerte/minna-von-barnhelm-1
 908/
DTSTART;TZID=Europe/Berlin:20260611T143000
DTEND;TZID=Europe/Berlin:20260611T235959
LOCATION:Theaterzelt Altenburg\, Teichpromenade 36 04600 Altenburg
ORGANIZER;CN=Theater Altenburg Gera:mailto:info@theater-altenburg-gera.de
END:VEVENT
END:VCALENDAR
