BEGIN:VCALENDAR
PRODID:-//eluceo/ical//2.0/EN
VERSION:2.0
CALSCALE:GREGORIAN
BEGIN:VEVENT
UID:d2c7c3f20542cbf7dab015735ac31e71
DTSTAMP:20260424T094718Z
SUMMARY:Maibaumsetzen
DESCRIPTION:
URL:https://www.altenburgerland.de/de/freizeit-tourismus/veranstaltungskale
 nder/maibaumsetzen
DTSTART;TZID=Europe/Berlin:20260430T180000
DTEND;TZID=Europe/Berlin:20260501T150000
LOCATION:Ziegelheim 04603 Nobitz
ORGANIZER;CN=Feuerwehrverein Ziegelheim 1901 e.V.:mailto:info@feuerwehrvere
 in-ziegelheim.de
END:VEVENT
END:VCALENDAR
