BEGIN:VCALENDAR
PRODID:-//eluceo/ical//2.0/EN
VERSION:2.0
CALSCALE:GREGORIAN
BEGIN:VEVENT
UID:62ada7314e07510a65d2682eaa3de139
DTSTAMP:20260424T095125Z
SUMMARY:Maibaumsetzen in Ehrenhain
DESCRIPTION:Der Feuerwehrverein Ehrenhain e. V. lädt mit Unterstützung de
 r OTFW Ehrenhain am Donnerstag\, dem 30. April 2026\, ab 17:00 Uhr\, am un
 d im Gerätehaus der Feuerwehr zum Maibaumsetzen ein. Mit Programm der Kit
 a „Holzwürmchen“\, Hüpfburg\, Zuckerwatte und Fackelumzug mit anschl
 ießendem Lagerfeuer sowie den Ehrenhainer Schalmeien. Musikalisch umrahmt
  den Abend Karli’s Disco. Für das leibliche Wohl sorgt der Feuerwehrver
 ein.
URL:https://www.altenburgerland.de/de/freizeit-tourismus/veranstaltungskale
 nder/maibaumsetzen-in-ehrenhain
DTSTART;TZID=Europe/Berlin:20260430T170000
DTEND;TZID=Europe/Berlin:20260430T235959
LOCATION:Gerätehaus der Feuerwehr Ehrenhain 04603 Nobitz
ORGANIZER;CN=Feuerwehrverein Ehrenhain e.V.:mailto:kultur@altenburgerland.d
 e
END:VEVENT
END:VCALENDAR
