BEGIN:VCALENDAR
PRODID:-//eluceo/ical//2.0/EN
VERSION:2.0
CALSCALE:GREGORIAN
BEGIN:VEVENT
UID:2d0acb672ad48fcaec6e345a68d77637
DTSTAMP:20260123T092734Z
SUMMARY:Ludwig Müller singt Reinhard Mey
DESCRIPTION:„Du kannst fliegen über den Wolken und darüber hinaus“ - 
 Ein Abend mit Liedern von Reinhard Mey
URL:https://orgelverein-grossstechau.jimdosite.com/events/
DTSTART;TZID=Europe/Berlin:20260530T190000
DTEND;TZID=Europe/Berlin:20260530T235959
LOCATION:Bürgersaal Löbichau\, Beerwalder Str. 33 04626 Löbichau
ORGANIZER;CN=Verein zur Erhaltung der Poppe-Orgel und der Kirche Großstech
 au e.V.:mailto:orgelverein-grossstechau@t-online.de
END:VEVENT
END:VCALENDAR
