BEGIN:VCALENDAR
PRODID:-//eluceo/ical//2.0/EN
VERSION:2.0
CALSCALE:GREGORIAN
BEGIN:VEVENT
UID:aa90501233e6355b52ec05bc48027690
DTSTAMP:20260407T121910Z
SUMMARY:Kunst:Offen
DESCRIPTION:Die Künstlerinnen und Künstler des Holzbildhauerpleinairs zei
 gen Arbeiten aus ihren Ateliers.
URL:https://www.quellen-hof.de/kulturgut-quellenhof/quellenhof-event
DTSTART;TZID=Europe/Berlin:20260524T100000
DTEND;TZID=Europe/Berlin:20260524T180000
LOCATION:Kulturgut Quellenhof\, Garbisdorf 6  04618 Göpfersdorf
END:VEVENT
END:VCALENDAR
