BEGIN:VCALENDAR
PRODID:-//eluceo/ical//2.0/EN
VERSION:2.0
CALSCALE:GREGORIAN
BEGIN:VEVENT
UID:a3bb910e9386deb2a78e322cbe741b0e
DTSTAMP:20260317T151256Z
SUMMARY:Kürbistag und Herbstmarkt im Botanischen Erlebnisgarten Altenburg
DESCRIPTION:Der Förderverein Altenburger Botanischer Erlebnisgarten e.V. f
 eiert zum Ende der Gartensaison noch einmal den Herbst in all seinen Forme
 n und Farben. 
URL:https://www.altenburgerland.de/de/freizeit-tourismus/veranstaltungskale
 nder/kuerbistag-und-herbstmarkt-im-botanischen-erlebnisgarten-altenburg
DTSTART;TZID=Europe/Berlin:20261010T100000
DTEND;TZID=Europe/Berlin:20261010T170000
LOCATION:Botanischer Erlebnisgarten Altenburg\, Heinrich-Zille-Straße 12 0
 4600 Altenburg
ORGANIZER;CN=Botanischer Erlebnisgarten Altenburg:mailto:boga-altenburg@t-o
 nline.de
END:VEVENT
END:VCALENDAR
