BEGIN:VCALENDAR
PRODID:-//eluceo/ical//2.0/EN
VERSION:2.0
CALSCALE:GREGORIAN
BEGIN:VEVENT
UID:edb26b4848d441962256c4fe5d3bfff3
DTSTAMP:20260422T081834Z
SUMMARY:Konzert mit Passage
DESCRIPTION:Jazz\, Soul\, Pop im besonderen Sound!
URL:https://www.quellen-hof.de/kulturgut-quellenhof/quellenhof-event
DTSTART;TZID=Europe/Berlin:20260605T193000
DTEND;TZID=Europe/Berlin:20260605T235959
LOCATION:Kulturgut Quellenhof\, Garbisdorf 6 04618 Göpfersdorf
END:VEVENT
END:VCALENDAR
