BEGIN:VCALENDAR
PRODID:-//eluceo/ical//2.0/EN
VERSION:2.0
CALSCALE:GREGORIAN
BEGIN:VEVENT
UID:837941b1b5d198ee20d1ba11b7f41967
DTSTAMP:20260123T110702Z
SUMMARY:„Kammerkonzert in seltener Besetzung“ im Schloss Ponitz
DESCRIPTION:Horntrio des Philharmonischen Orchesters Altenburg-Gera 
URL:https://schloss-ponitz.de/veranstaltung.htm
DTSTART;TZID=Europe/Berlin:20260711T193000
DTEND;TZID=Europe/Berlin:20260711T235959
LOCATION:04639 Ponitz
ORGANIZER;CN=Förderverein Renaissanceschloss Ponitz e.V.:mailto:fv@schloss
 -ponitz.de
END:VEVENT
END:VCALENDAR
