BEGIN:VCALENDAR
PRODID:-//eluceo/ical//2.0/EN
VERSION:2.0
CALSCALE:GREGORIAN
BEGIN:VEVENT
UID:bf499bc07ac1ac850cd0519ead4b1f49
DTSTAMP:20260424T111914Z
SUMMARY:Grusellesung für Erwachsene
DESCRIPTION:Wenn Ronny Ristok und Franziska Huberty auf der Burg Posterstei
 n aus Klassikern des Horror-Genres lesen\, erwartet die Zuhörer eine Lesu
 ng mit einem gewissen schaurig-schönen Nervenkitzel. 
URL:https://www.burg-posterstein.de/kalender/veranstaltungen/
DTSTART;TZID=Europe/Berlin:20261031T200000
DTEND;TZID=Europe/Berlin:20261031T220000
LOCATION:Burg Posterstein\, Burgberg 1 04626 Posterstein
ORGANIZER;CN=Museum Burg Posterstein:mailto:info@burg-posterstein.de
END:VEVENT
END:VCALENDAR
