BEGIN:VCALENDAR
PRODID:-//eluceo/ical//2.0/EN
VERSION:2.0
CALSCALE:GREGORIAN
BEGIN:VEVENT
UID:44d3b96f49a742a10b954646a47c4a04
DTSTAMP:20260424T100856Z
SUMMARY:Geschichten an der Kaffeetafel
DESCRIPTION:Es ist wieder soweit. Wir laden zum Kaffeeklatsch in die Begegn
 ungsstätte in Langenleuba-Niederhain ein: Mittwoch\, 06.05.2026\, 15 Uhr
  
URL:https://www.altenburgerland.de/de/freizeit-tourismus/veranstaltungskale
 nder/geschichten-an-der-kaffeetafel-fe63
DTSTART;TZID=Europe/Berlin:20260506T150000
DTEND;TZID=Europe/Berlin:20260506T235959
LOCATION:Begegnungsstätte\, Platz der Einheit 4 04618 Langenleuba-Niederha
 in
ORGANIZER;CN=Bibliothek Langenleuba-Niederhain:mailto:bibliothek@wieratal.d
 e
END:VEVENT
END:VCALENDAR
