BEGIN:VCALENDAR
PRODID:-//eluceo/ical//2.0/EN
VERSION:2.0
CALSCALE:GREGORIAN
BEGIN:VEVENT
UID:14ed5fe62892ad23eba72860808ba6e8
DTSTAMP:20260424T100013Z
SUMMARY:Frühshoppen in Podelwitz
DESCRIPTION:\n
URL:https://www.altenburgerland.de/de/freizeit-tourismus/veranstaltungskale
 nder/fruehshoppen-in-podelwitz
DTSTART;TZID=Europe/Berlin:20260501T100000
DTEND;TZID=Europe/Berlin:20260501T235959
LOCATION:04603 Nobitz
END:VEVENT
END:VCALENDAR
