BEGIN:VCALENDAR
PRODID:-//eluceo/ical//2.0/EN
VERSION:2.0
CALSCALE:GREGORIAN
BEGIN:VEVENT
UID:10da7934f9976718f34ed283dd4002ea
DTSTAMP:20260424T084937Z
SUMMARY:Buddy Holly Rock´n´ Roll-Show
DESCRIPTION:Gastspiel mit den Stars aus dem Musical "BUDDY - Die Buddy Holl
 y Story" 
URL:https://theater-altenburg-gera.de/stuecke-konzerte/buddy-holly-rocknrol
 l-show-2118/
DTSTART;TZID=Europe/Berlin:20260614T180000
DTEND;TZID=Europe/Berlin:20260614T235959
LOCATION:Theaterzelt\, Teichpromenade 36 04600 Altenburg
ORGANIZER;CN=Theater Altenburg Gera:mailto:info@theater-altenburg-gera.de
END:VEVENT
END:VCALENDAR
