BEGIN:VCALENDAR
PRODID:-//eluceo/ical//2.0/EN
VERSION:2.0
CALSCALE:GREGORIAN
BEGIN:VEVENT
UID:0096f902f7a6107248e379e439e865b9
DTSTAMP:20260421T072724Z
SUMMARY:Blumen- und Kreativmarkt in Schmölln
DESCRIPTION:Am 02. Mai verwandelt sich der Marktplatz vor dem „Lädchen a
 n der Stadtmauer“ von 8 bis 12 Uhr wieder in ein buntes Paradies für Ga
 rtenfreunde und Liebhaber handgefertigter Produkte. 
URL:https://www.altenburgerland.de/de/freizeit-tourismus/veranstaltungskale
 nder/blumen-und-kreativmarkt-in-schmoelln
DTSTART;TZID=Europe/Berlin:20260502T080000
DTEND;TZID=Europe/Berlin:20260502T120000
LOCATION:vorderer Markt 04626 Schmölln
END:VEVENT
END:VCALENDAR
