BEGIN:VCALENDAR
PRODID:-//eluceo/ical//2.0/EN
VERSION:2.0
CALSCALE:GREGORIAN
BEGIN:VEVENT
UID:8a6a4433bb9db60cbabba7d3dde01230
DTSTAMP:20260424T090207Z
SUMMARY:42 Milligramm
DESCRIPTION:Stück von Gwendolin Gäbler 
URL:https://theater-altenburg-gera.de/stuecke-konzerte/42-milligramm-2125/
DTSTART;TZID=Europe/Berlin:20260623T100000
DTEND;TZID=Europe/Berlin:20260623T235959
LOCATION:Heizhaus\, Theaterplatz 19 04600 Altenburg
ORGANIZER;CN=Theater Altenburg Gera:mailto:info@theater-altenburg-gera.de
END:VEVENT
END:VCALENDAR
