BEGIN:VCALENDAR
PRODID:-//eluceo/ical//2.0/EN
VERSION:2.0
CALSCALE:GREGORIAN
BEGIN:VEVENT
UID:2be9a085f41fc0f70f5871059fb77efb
DTSTAMP:20260215T205602Z
SUMMARY:Stadtführung durch Altenburg „Eine Zeitreise durch 1050 Jahre“
  mit Verkostung am 29. Juli
DESCRIPTION:Kommen Sie mit uns auf einen Entdeckungstour durch die ehemalig
 e Residenz der Wettiner Fürsten. Es gibt keine bessere Art\, einen guten 
 Überblick über die Spielkartenstadt und ihre 1050-jährige Geschichte zu
  erhalten. \n\nDazu haben Sie die Möglichkeit\, im Spielkartenladen lecke
 re Altenburger Spezialitäten wie den berühmten Ziegenkäse und leckeren 
 Likör zu verkosten und erfahren außerdem Spannendes über die weltberüh
 mten Spielkarten. 
URL:https://www.altenburger-originale.de/
DTSTART;TZID=Europe/Berlin:20260729T140000
DTEND;TZID=Europe/Berlin:20260729T153000
LOCATION:Start: Spielkarten- & Spezialitätenladen der Altenburger Tourismu
 s GmbH\, Markt 17 (neben Rossmann) 04600 Altenburg
END:VEVENT
BEGIN:VEVENT
UID:8f20eb2599075d7e27e2d37cd55f2c97
DTSTAMP:20260317T082618Z
SUMMARY:Kulinarische Sommerabendtour am 31. Juli
DESCRIPTION:Kommen Sie mit uns auf einen gemütlichen kulinarische Stadtrun
 dgang durch Altenburg am Abend! Wir führen Sie an besondere Orte Altenbur
 gs wie den Nikolaikirchhof und verkosten mit Ihnen leckere Altenburger Spe
 zialitäten wie die Altenburger Beamtenbemme\, schmackhafte „Mundvolls
 “\, Altenburger Ziegenkäse und Liköre.
URL:https://www.altenburger-originale.de
DTSTART;TZID=Europe/Berlin:20260731T170000
DTEND;TZID=Europe/Berlin:20260731T183000
LOCATION:Start: Altenburger Tourismus GmbH\, Markt 17 (neben Rossmann) 0460
 0 Altenburg
END:VEVENT
BEGIN:VEVENT
UID:0941cf70f72d781cf6d07bfd80066519
DTSTAMP:20251119T084958Z
SUMMARY:Altenburger Spieleabend am 31. Juli
DESCRIPTION:Altenburger Spieletage organisiert einen Spieleabend in der Zei
 tzer Straße 39\, Altenburg\; Verpflegung kann selbst mitgebracht oder Vor
 ort für einen Unkostenbeitrag gekauft werden.
URL:http://www.altenburger-spieletage.de
DTSTART;TZID=Europe/Berlin:20260731T170000
DTEND;TZID=Europe/Berlin:20260731T220000
LOCATION:Gemeindezentrum der Ev.-Freikirchliche Gemeinde\, Zeitzer Str. 39 
 04600 Altenburg
ORGANIZER;CN=Gabriele & Thomas Orymek:mailto:info@altenburger-spieletage.de
END:VEVENT
BEGIN:VEVENT
UID:9e137c04696b65cfde1b7ae8dd5f1ef4
DTSTAMP:20260209T192848Z
SUMMARY:Öffentliche Stadtführung durch Altenburg am 01. August
DESCRIPTION:Verschaffen Sie sich einen Überblick und begleiten Sie uns auf
  einem entspannten Rundgang durch die reizvolle Altenburger Altstadt. Ansc
 hließend verkosten Sie leckere Altenburger Spezialitäten.\nAnmeldung bis
  kurz vor der Veranstaltung möglich. 
URL:https://www.altenburger-originale.de/
DTSTART;TZID=Europe/Berlin:20260801T110000
DTEND;TZID=Europe/Berlin:20260801T123000
LOCATION:Start: Spielkarten- & Spezialitätenladen der Altenburger Tourismu
 s GmbH\, Markt 17 (neben Rossmann) 04600 Altenburg
END:VEVENT
BEGIN:VEVENT
UID:b01f0653d446b5c4a9a75fe716a1ec7a
DTSTAMP:20260215T212232Z
SUMMARY:Öffentliche Stadtführung durch Altenburg am 03. August
DESCRIPTION:Kommen Sie mit uns auf einen Entdeckungstour durch die ehemalig
 e Residenz der Wettiner Fürsten. Es gibt keine bessere Art\, einen guten 
 Überblick über die Spielkartenstadt und ihre 1000-jährige Geschichte zu
  erhalten. 
URL:https://www.altenburger-originale.de/
DTSTART;TZID=Europe/Berlin:20260803T110000
DTEND;TZID=Europe/Berlin:20260803T123000
LOCATION:Start: Spielkarten- & Spezialitätenladen der Altenburger Tourismu
 s GmbH\, Markt 17 (neben Rossmann) 04600 Altenburg
END:VEVENT
BEGIN:VEVENT
UID:46e6a67a6a2e09dacd978ffb87b49f12
DTSTAMP:20260215T204936Z
SUMMARY:Stadtführung durch Altenburg „Eine Zeitreise durch 1050 Jahre“
  mit Verkostung am 05. August
DESCRIPTION:Kommen Sie mit uns auf einen Entdeckungstour durch die ehemalig
 e Residenz der Wettiner Fürsten. Es gibt keine bessere Art\, einen guten 
 Überblick über die Spielkartenstadt und ihre 1050-jährige Geschichte zu
  erhalten. \n\nDazu haben Sie die Möglichkeit\, im Spielkartenladen lecke
 re Altenburger Spezialitäten wie den berühmten Ziegenkäse und leckeren 
 Likör zu verkosten und erfahren außerdem Spannendes über die weltberüh
 mten Spielkarten. 
URL:https://www.altenburger-originale.de/
DTSTART;TZID=Europe/Berlin:20260805T140000
DTEND;TZID=Europe/Berlin:20260805T153000
LOCATION:Start: Spielkarten- & Spezialitätenladen der Altenburger Tourismu
 s GmbH\, Markt 17 (neben Rossmann) 04600 Altenburg
END:VEVENT
BEGIN:VEVENT
UID:7b283c49c9dc56495d94f6031fd12f93
DTSTAMP:20260317T082626Z
SUMMARY:Kulinarische Sommerabendtour am 07. August
DESCRIPTION:Kommen Sie mit uns auf einen gemütlichen kulinarische Stadtrun
 dgang durch Altenburg am Abend! Wir führen Sie an besondere Orte Altenbur
 gs wie den Nikolaikirchhof und verkosten mit Ihnen leckere Altenburger Spe
 zialitäten wie die Altenburger Beamtenbemme\, schmackhafte „Mundvolls
 “\, Altenburger Ziegenkäse und Liköre.
URL:https://www.altenburger-originale.de
DTSTART;TZID=Europe/Berlin:20260807T170000
DTEND;TZID=Europe/Berlin:20260807T183000
LOCATION:Start: Altenburger Tourismus GmbH\, Markt 17 (neben Rossmann) 0460
 0 Altenburg
END:VEVENT
BEGIN:VEVENT
UID:761a84af65bd89e236053869b54c2a72
DTSTAMP:20260119T143958Z
SUMMARY:19. Pauritzer Straßenfest
DESCRIPTION:Die Pauritzer Straße in Altenburg wird zur Partymeile. 
URL:https://www.altenburgerland.de/de/freizeit-tourismus/veranstaltungskale
 nder/19-pauritzer-strassenfest
DTSTART;VALUE=DATE:20260808
LOCATION:04600 Altenburg
END:VEVENT
BEGIN:VEVENT
UID:e8e07c5d6459c309dbecd5a9a7452505
DTSTAMP:20260209T192508Z
SUMMARY:Öffentliche Stadtführung durch Altenburg am 08. August
DESCRIPTION:Verschaffen Sie sich einen Überblick und begleiten Sie uns auf
  einem entspannten Rundgang durch die reizvolle Altenburger Altstadt. Ansc
 hließend verkosten Sie leckere Altenburger Spezialitäten.\nAnmeldung bis
  kurz vor der Veranstaltung möglich. 
URL:https://www.altenburger-originale.de/
DTSTART;TZID=Europe/Berlin:20260808T110000
DTEND;TZID=Europe/Berlin:20260808T123000
LOCATION:Start: Spielkarten- & Spezialitätenladen der Altenburger Tourismu
 s GmbH\, Markt 17 (neben Rossmann) 04600 Altenburg
END:VEVENT
BEGIN:VEVENT
UID:47f8e349a6be8280cb7598b4238e7e1d
DTSTAMP:20260215T212250Z
SUMMARY:Öffentliche Stadtführung durch Altenburg am 10. August
DESCRIPTION:Kommen Sie mit uns auf einen Entdeckungstour durch die ehemalig
 e Residenz der Wettiner Fürsten. Es gibt keine bessere Art\, einen guten 
 Überblick über die Spielkartenstadt und ihre 1000-jährige Geschichte zu
  erhalten. 
URL:https://www.altenburger-originale.de/
DTSTART;TZID=Europe/Berlin:20260810T110000
DTEND;TZID=Europe/Berlin:20260810T123000
LOCATION:Start: Spielkarten- & Spezialitätenladen der Altenburger Tourismu
 s GmbH\, Markt 17 (neben Rossmann) 04600 Altenburg
END:VEVENT
BEGIN:VEVENT
UID:a80f3fc56e6bd8f56a03f8b8553f7444
DTSTAMP:20260213T104306Z
SUMMARY:Edutainment mit Goethe im Deutschen Optischen Museum: Wissen trifft
  Erlebnis
DESCRIPTION:Jena ist aus globaler Sicht der Hotspot der Optik & Photonik. Z
 iel des Deutschen Optischen Museums (D.O.M.) ist\, diese besondere Stärke
  für die gesamte Breite der Gesellschaft ganzheitlich erlebbar zu machen.
  
URL:https://www.altenburgerland.de/de/freizeit-tourismus/veranstaltungskale
 nder/edutainment-mit-goethe-im-deutschen-optischen-museum-wissen-trifft-er
 lebnis
DTSTART;TZID=Europe/Berlin:20260810T180000
DTEND;TZID=Europe/Berlin:20260810T235959
LOCATION:Kunstgasse (Interim des Lindenau-Museums Altenburg) 04600 Altenbur
 g
ORGANIZER;CN=Goethe Gesellschaft Altenburg e. V.:mailto:post@goethe-gesells
 chaft-altenburg.de
END:VEVENT
BEGIN:VEVENT
UID:4350046424235e178714afacf591b9b9
DTSTAMP:20260215T205003Z
SUMMARY:Stadtführung durch Altenburg „Eine Zeitreise durch 1050 Jahre“
  mit Verkostung am 12. August
DESCRIPTION:Kommen Sie mit uns auf einen Entdeckungstour durch die ehemalig
 e Residenz der Wettiner Fürsten. Es gibt keine bessere Art\, einen guten 
 Überblick über die Spielkartenstadt und ihre 1050-jährige Geschichte zu
  erhalten. \n\nDazu haben Sie die Möglichkeit\, im Spielkartenladen lecke
 re Altenburger Spezialitäten wie den berühmten Ziegenkäse und leckeren 
 Likör zu verkosten und erfahren außerdem Spannendes über die weltberüh
 mten Spielkarten. 
URL:https://www.altenburger-originale.de/
DTSTART;TZID=Europe/Berlin:20260812T140000
DTEND;TZID=Europe/Berlin:20260812T153000
LOCATION:Start: Spielkarten- & Spezialitätenladen der Altenburger Tourismu
 s GmbH\, Markt 17 (neben Rossmann) 04600 Altenburg
END:VEVENT
BEGIN:VEVENT
UID:26ed92f4961947a3a317303fb4d5044e
DTSTAMP:20260312T093633Z
SUMMARY:26. Westerntage
DESCRIPTION:Feiert mit uns – im Kostüm oder ohne – und genießt drei T
 age Musik\, buntes Western-Treiben und die Fahrt mit dem WESTERN-EXPRESS!\
 n
URL:https://westerntage.de
DTSTART;VALUE=DATE:20260814
LOCATION:Westernstadt Haselbach\, Fabrikstraße 1 04617 Haselbach
ORGANIZER;CN=Verein Kohlebahnen e. V.:mailto:fahrten-kohlebahnen@web.de
END:VEVENT
BEGIN:VEVENT
UID:4b68a1e8237648208efa0bb5e8c9491c
DTSTAMP:20260218T132643Z
SUMMARY:Konzert Duo Sona'x in Meuselwitz
DESCRIPTION:
URL:https://www.altenburgerland.de/de/freizeit-tourismus/veranstaltungskale
 nder/konzert-duo-sona-x-in-meuselwitz
DTSTART;TZID=Europe/Berlin:20260814T163000
DTEND;TZID=Europe/Berlin:20260814T235959
LOCATION:Martinskirche Meuselwitz\, Markt 04610 Meuselwitz
ORGANIZER;CN=Evang.-Luth. Pfarrbereich Meuselwitz-Lucka-Rositz :mailto:ev.-
 luth.kirchgemeinde-msw@t-online.de
END:VEVENT
BEGIN:VEVENT
UID:8e890cc92b513366ff1572de1b8ef02e
DTSTAMP:20260317T082642Z
SUMMARY:Kulinarische Sommerabendtour am 14. August
DESCRIPTION:Kommen Sie mit uns auf einen gemütlichen kulinarische Stadtrun
 dgang durch Altenburg am Abend! Wir führen Sie an besondere Orte Altenbur
 gs wie den Nikolaikirchhof und verkosten mit Ihnen leckere Altenburger Spe
 zialitäten wie die Altenburger Beamtenbemme\, schmackhafte „Mundvolls
 “\, Altenburger Ziegenkäse und Liköre.
URL:https://www.altenburger-originale.de
DTSTART;TZID=Europe/Berlin:20260814T170000
DTEND;TZID=Europe/Berlin:20260814T183000
LOCATION:Start: Altenburger Tourismus GmbH\, Markt 17 (neben Rossmann) 0460
 0 Altenburg
END:VEVENT
BEGIN:VEVENT
UID:661871ce08e33296398fe8fc0fa28e67
DTSTAMP:20260218T132141Z
SUMMARY:Konzert Duo Sona'x in Windischleuba
DESCRIPTION:
URL:https://www.altenburgerland.de/de/freizeit-tourismus/veranstaltungskale
 nder/konzert-duo-sona-x-in-windischleuba
DTSTART;TZID=Europe/Berlin:20260814T190000
DTEND;TZID=Europe/Berlin:20260814T235959
LOCATION:Kirche St. Nikolaus Windischleuba\, Luckaer Str. 26 04603 Windisch
 leuba
ORGANIZER;CN=Evang.-Luth. Kirchgemeinde Windischleuba:mailto:felix.kalder@e
 kmd.de
END:VEVENT
BEGIN:VEVENT
UID:06a84cf762fc220dd038dd9ee7ddb30d
DTSTAMP:20260212T083544Z
SUMMARY:5. Nachtlauf
DESCRIPTION:Am Freitag\, dem 14. August 2026 findet der 5. Nachtlauf in Alt
 enburg statt! 
URL:https://www.skatstadtmarathon.de
DTSTART;TZID=Europe/Berlin:20260814T200000
DTEND;TZID=Europe/Berlin:20260814T235959
LOCATION:Rund um den Großen Teich 04600 Altenburg
END:VEVENT
BEGIN:VEVENT
UID:9c98847cceafaad62e5e4c9616812e45
DTSTAMP:20260209T191832Z
SUMMARY:Öffentliche Stadtführung durch Altenburg am 15. August
DESCRIPTION:Verschaffen Sie sich einen Überblick und begleiten Sie uns auf
  einem entspannten Rundgang durch die reizvolle Altenburger Altstadt. Ansc
 hließend verkosten Sie leckere Altenburger Spezialitäten.\nAnmeldung bis
  kurz vor der Veranstaltung möglich. 
URL:https://www.altenburger-originale.de/
DTSTART;TZID=Europe/Berlin:20260815T110000
DTEND;TZID=Europe/Berlin:20260815T123000
LOCATION:Start: Spielkarten- & Spezialitätenladen der Altenburger Tourismu
 s GmbH\, Markt 17 (neben Rossmann) 04600 Altenburg
END:VEVENT
BEGIN:VEVENT
UID:a20f352e1620515f321e98b112d0b93d
DTSTAMP:20260215T212310Z
SUMMARY:Öffentliche Stadtführung durch Altenburg am 17. August
DESCRIPTION:Kommen Sie mit uns auf einen Entdeckungstour durch die ehemalig
 e Residenz der Wettiner Fürsten. Es gibt keine bessere Art\, einen guten 
 Überblick über die Spielkartenstadt und ihre 1000-jährige Geschichte zu
  erhalten. 
URL:https://www.altenburger-originale.de/
DTSTART;TZID=Europe/Berlin:20260817T110000
DTEND;TZID=Europe/Berlin:20260817T123000
LOCATION:Start: Spielkarten- & Spezialitätenladen der Altenburger Tourismu
 s GmbH\, Markt 17 (neben Rossmann) 04600 Altenburg
END:VEVENT
BEGIN:VEVENT
UID:f0bf0db3b978cf6d57cad5b3e9b3a6cd
DTSTAMP:20260215T205134Z
SUMMARY:Stadtführung durch Altenburg „Eine Zeitreise durch 1050 Jahre“
  mit Verkostung am 19. August
DESCRIPTION:Kommen Sie mit uns auf einen Entdeckungstour durch die ehemalig
 e Residenz der Wettiner Fürsten. Es gibt keine bessere Art\, einen guten 
 Überblick über die Spielkartenstadt und ihre 1050-jährige Geschichte zu
  erhalten. \n\nDazu haben Sie die Möglichkeit\, im Spielkartenladen lecke
 re Altenburger Spezialitäten wie den berühmten Ziegenkäse und leckeren 
 Likör zu verkosten und erfahren außerdem Spannendes über die weltberüh
 mten Spielkarten. 
URL:https://www.altenburger-originale.de/
DTSTART;TZID=Europe/Berlin:20260819T140000
DTEND;TZID=Europe/Berlin:20260819T153000
LOCATION:Start: Spielkarten- & Spezialitätenladen der Altenburger Tourismu
 s GmbH\, Markt 17 (neben Rossmann) 04600 Altenburg
END:VEVENT
END:VCALENDAR
